BEGIN:VCALENDAR
VERSION:2.0
PRODID:-//La Papeterie des Arceaux - ECPv6.15.18//NONSGML v1.0//EN
CALSCALE:GREGORIAN
METHOD:PUBLISH
X-ORIGINAL-URL:https://papeteriedesarceaux.com
X-WR-CALDESC:Évènements pour La Papeterie des Arceaux
REFRESH-INTERVAL;VALUE=DURATION:PT1H
X-Robots-Tag:noindex
X-PUBLISHED-TTL:PT1H
BEGIN:VTIMEZONE
TZID:Europe/Paris
BEGIN:DAYLIGHT
TZOFFSETFROM:+0100
TZOFFSETTO:+0200
TZNAME:CEST
DTSTART:20240331T010000
END:DAYLIGHT
BEGIN:STANDARD
TZOFFSETFROM:+0200
TZOFFSETTO:+0100
TZNAME:CET
DTSTART:20241027T010000
END:STANDARD
BEGIN:DAYLIGHT
TZOFFSETFROM:+0100
TZOFFSETTO:+0200
TZNAME:CEST
DTSTART:20250330T010000
END:DAYLIGHT
BEGIN:STANDARD
TZOFFSETFROM:+0200
TZOFFSETTO:+0100
TZNAME:CET
DTSTART:20251026T010000
END:STANDARD
BEGIN:DAYLIGHT
TZOFFSETFROM:+0100
TZOFFSETTO:+0200
TZNAME:CEST
DTSTART:20260329T010000
END:DAYLIGHT
BEGIN:STANDARD
TZOFFSETFROM:+0200
TZOFFSETTO:+0100
TZNAME:CET
DTSTART:20261025T010000
END:STANDARD
END:VTIMEZONE
BEGIN:VEVENT
DTSTART;TZID=Europe/Paris:20250830T140000
DTEND;TZID=Europe/Paris:20250906T180000
DTSTAMP:20260423T231950
CREATED:20250829T150403Z
LAST-MODIFIED:20250829T150535Z
UID:15129-1756562400-1757181600@papeteriedesarceaux.com
SUMMARY:Fermeture du 30/08 au 06/09
DESCRIPTION:Un peu de repos loin d’ici s’impose…\nJe vous retrouve la semaine du 9 septembre avec grand plaisir!\nN’hésitez pas à passer commande par mail.
URL:https://papeteriedesarceaux.com/event/fermeture-du-30-08-au-06-09/
LOCATION:La Papeterie des Arceaux\, 7 rue de l'arsault\, Grand Brassac\, 24350\, France
ATTACH;FMTTYPE=image/jpeg:https://papeteriedesarceaux.com/wp-content/uploads/2025/08/A11.jpg
ORGANIZER;CN="La Papeterie des Arceaux":MAILTO:contact@papeteriedesarceaux.com
END:VEVENT
END:VCALENDAR