BEGIN:VCALENDAR
VERSION:2.0
PRODID:-//La Papeterie des Arceaux - ECPv6.15.18//NONSGML v1.0//EN
CALSCALE:GREGORIAN
METHOD:PUBLISH
X-WR-CALNAME:La Papeterie des Arceaux
X-ORIGINAL-URL:https://papeteriedesarceaux.com
X-WR-CALDESC:Évènements pour La Papeterie des Arceaux
REFRESH-INTERVAL;VALUE=DURATION:PT1H
X-Robots-Tag:noindex
X-PUBLISHED-TTL:PT1H
BEGIN:VTIMEZONE
TZID:Europe/Paris
BEGIN:DAYLIGHT
TZOFFSETFROM:+0100
TZOFFSETTO:+0200
TZNAME:CEST
DTSTART:20250330T010000
END:DAYLIGHT
BEGIN:STANDARD
TZOFFSETFROM:+0200
TZOFFSETTO:+0100
TZNAME:CET
DTSTART:20251026T010000
END:STANDARD
BEGIN:DAYLIGHT
TZOFFSETFROM:+0100
TZOFFSETTO:+0200
TZNAME:CEST
DTSTART:20260329T010000
END:DAYLIGHT
BEGIN:STANDARD
TZOFFSETFROM:+0200
TZOFFSETTO:+0100
TZNAME:CET
DTSTART:20261025T010000
END:STANDARD
BEGIN:DAYLIGHT
TZOFFSETFROM:+0100
TZOFFSETTO:+0200
TZNAME:CEST
DTSTART:20270328T010000
END:DAYLIGHT
BEGIN:STANDARD
TZOFFSETFROM:+0200
TZOFFSETTO:+0100
TZNAME:CET
DTSTART:20271031T010000
END:STANDARD
END:VTIMEZONE
BEGIN:VEVENT
DTSTART;TZID=Europe/Paris:20260517T150000
DTEND;TZID=Europe/Paris:20260517T180000
DTSTAMP:20260421T171505
CREATED:20260420T103901Z
LAST-MODIFIED:20260420T103939Z
UID:15367-1779030000-1779040800@papeteriedesarceaux.com
SUMMARY:Ouverture exceptionnelle
DESCRIPTION:Pas d’ateliers aujourd’hui\, mais la boutique est exceptionnellement ouverte\, gravures\, reliures\, BD\, et autres surprises à découvrir dans tous les recoins… \nDe 15h à 18h exceptionnellement…
URL:https://papeteriedesarceaux.com/event/ouverture-exceptionnelle/
LOCATION:La Papeterie des Arceaux\, 7 rue de l'arsault\, Grand Brassac\, 24350\, France
ATTACH;FMTTYPE=image/jpeg:https://papeteriedesarceaux.com/wp-content/uploads/2026/04/crapaudmars.jpg
ORGANIZER;CN="La Papeterie des Arceaux":MAILTO:contact@papeteriedesarceaux.com
END:VEVENT
END:VCALENDAR