BEGIN:VCALENDAR
VERSION:2.0
PRODID:-//La Papeterie des Arceaux - ECPv6.15.18//NONSGML v1.0//EN
CALSCALE:GREGORIAN
METHOD:PUBLISH
X-WR-CALNAME:La Papeterie des Arceaux
X-ORIGINAL-URL:https://papeteriedesarceaux.com
X-WR-CALDESC:Évènements pour La Papeterie des Arceaux
REFRESH-INTERVAL;VALUE=DURATION:PT1H
X-Robots-Tag:noindex
X-PUBLISHED-TTL:PT1H
BEGIN:VTIMEZONE
TZID:Europe/Paris
BEGIN:DAYLIGHT
TZOFFSETFROM:+0100
TZOFFSETTO:+0200
TZNAME:CEST
DTSTART:20240331T010000
END:DAYLIGHT
BEGIN:STANDARD
TZOFFSETFROM:+0200
TZOFFSETTO:+0100
TZNAME:CET
DTSTART:20241027T010000
END:STANDARD
BEGIN:DAYLIGHT
TZOFFSETFROM:+0100
TZOFFSETTO:+0200
TZNAME:CEST
DTSTART:20250330T010000
END:DAYLIGHT
BEGIN:STANDARD
TZOFFSETFROM:+0200
TZOFFSETTO:+0100
TZNAME:CET
DTSTART:20251026T010000
END:STANDARD
BEGIN:DAYLIGHT
TZOFFSETFROM:+0100
TZOFFSETTO:+0200
TZNAME:CEST
DTSTART:20260329T010000
END:DAYLIGHT
BEGIN:STANDARD
TZOFFSETFROM:+0200
TZOFFSETTO:+0100
TZNAME:CET
DTSTART:20261025T010000
END:STANDARD
END:VTIMEZONE
BEGIN:VEVENT
DTSTART;TZID=Europe/Paris:20250715T140000
DTEND;TZID=Europe/Paris:20250715T180000
DTSTAMP:20260420T161005
CREATED:20250708T173739Z
LAST-MODIFIED:20250708T173739Z
UID:15082-1752588000-1752602400@papeteriedesarceaux.com
SUMMARY:Atelier Libre
DESCRIPTION:L’atelier Libre c’est simplement que les premier.e.s inscit.e.s choississent l’atelier qu’ils et elles souhaitent faire : reliure\, stop-motion\, gravure\, monotype\, flip-book\, Zhen Xian Bao\, Pop-up\, kirigami\, origami\, fabrication de papier (…) suffit de demander. En fait\, le mieux c’est de passer un coup de fil 😉 \nRéservations/ ateliers
URL:https://papeteriedesarceaux.com/event/atelier-libre/
LOCATION:La Papeterie des Arceaux\, 7 rue de l'arsault\, Grand Brassac\, 24350\, France
CATEGORIES:Atelier Flip Book Mécanique (Flip'Off),Atelier Kirigami & Origami,Atelier Kirigami - carte Pop-up,Atelier Linogravure,Atelier Monotype,Atelier Papier Animé,Atelier Papier Artisanal,Atelier Reliure,Atelier Xylogravure,Atelier Zhen Xian Bao
ATTACH;FMTTYPE=image/jpeg:https://papeteriedesarceaux.com/wp-content/uploads/2021/12/co20.jpeg
ORGANIZER;CN="La Papeterie des Arceaux":MAILTO:contact@papeteriedesarceaux.com
END:VEVENT
BEGIN:VEVENT
DTSTART;TZID=Europe/Paris:20250723T140000
DTEND;TZID=Europe/Paris:20250723T180000
DTSTAMP:20260420T161005
CREATED:20250708T174035Z
LAST-MODIFIED:20250708T174054Z
UID:15084-1753279200-1753293600@papeteriedesarceaux.com
SUMMARY:Atelier Libre
DESCRIPTION:L’atelier Libre c’est simplement que les premier.e.s inscit.e.s choississent l’atelier qu’ils et elles souhaitent faire : reliure\, stop-motion\, gravure\, monotype\, flip-book\, Zhen Xian Bao\, Pop-up\, kirigami\, origami\, fabrication de papier (…) suffit de demander. En fait\, le mieux c’est de passer un coup de fil 😉 \nRéservations/ ateliers
URL:https://papeteriedesarceaux.com/event/atelier-libre-2/
LOCATION:La Papeterie des Arceaux\, 7 rue de l'arsault\, Grand Brassac\, 24350\, France
CATEGORIES:Atelier Flip Book Mécanique (Flip'Off),Atelier Kirigami & Origami,Atelier Kirigami - carte Pop-up,Atelier Linogravure,Atelier Monotype,Atelier Papier Animé,Atelier Papier Artisanal,Atelier Xylogravure,Atelier Zhen Xian Bao
ATTACH;FMTTYPE=image/jpeg:https://papeteriedesarceaux.com/wp-content/uploads/2023/08/IMG_1129-scaled-e1693246337715.jpg
ORGANIZER;CN="La Papeterie des Arceaux":MAILTO:contact@papeteriedesarceaux.com
END:VEVENT
BEGIN:VEVENT
DTSTART;TZID=Europe/Paris:20250724T140000
DTEND;TZID=Europe/Paris:20250724T180000
DTSTAMP:20260420T161005
CREATED:20250708T174254Z
LAST-MODIFIED:20250708T174307Z
UID:15086-1753365600-1753380000@papeteriedesarceaux.com
SUMMARY:Atelier Libre
DESCRIPTION:L’atelier Libre c’est simplement que les premier.e.s inscit.e.s choississent l’atelier qu’ils et elles souhaitent faire : reliure\, stop-motion\, gravure\, monotype\, flip-book\, Zhen Xian Bao\, Pop-up\, kirigami\, origami\, fabrication de papier (…) suffit de demander. En fait\, le mieux c’est de passer un coup de fil 😉 \nRéservations/ ateliers
URL:https://papeteriedesarceaux.com/event/atelier-libre-3/
LOCATION:La Papeterie des Arceaux\, 7 rue de l'arsault\, Grand Brassac\, 24350\, France
CATEGORIES:Atelier Flip Book Mécanique (Flip'Off),Atelier Kirigami & Origami,Atelier Kirigami - carte Pop-up,Atelier Linogravure,Atelier Monotype,Atelier Papier Animé,Atelier Papier Artisanal,Atelier Reliure,Atelier Xylogravure,Atelier Zhen Xian Bao
ATTACH;FMTTYPE=image/jpeg:https://papeteriedesarceaux.com/wp-content/uploads/2019/03/papier16-e1552491402994.jpg
ORGANIZER;CN="La Papeterie des Arceaux":MAILTO:contact@papeteriedesarceaux.com
END:VEVENT
BEGIN:VEVENT
DTSTART;TZID=Europe/Paris:20250729T140000
DTEND;TZID=Europe/Paris:20250729T180000
DTSTAMP:20260420T161005
CREATED:20250708T174927Z
LAST-MODIFIED:20250708T174939Z
UID:15088-1753797600-1753812000@papeteriedesarceaux.com
SUMMARY:Atelier Libre
DESCRIPTION:L’atelier Libre c’est simplement que les premier.e.s inscit.e.s choississent l’atelier qu’ils et elles souhaitent faire : reliure\, stop-motion\, gravure\, monotype\, flip-book\, Zhen Xian Bao\, Pop-up\, kirigami\, origami\, fabrication de papier (…) suffit de demander. En fait\, le mieux c’est de passer un coup de fil 😉 \nRéservations/ ateliers
URL:https://papeteriedesarceaux.com/event/atelier-libre-4/
LOCATION:La Papeterie des Arceaux\, 7 rue de l'arsault\, Grand Brassac\, 24350\, France
CATEGORIES:Atelier Flip Book Mécanique (Flip'Off),Atelier Kirigami & Origami,Atelier Kirigami - carte Pop-up,Atelier Linogravure,Atelier Monotype,Atelier Papier Animé,Atelier Papier Artisanal,Atelier Reliure,Atelier Xylogravure,Atelier Zhen Xian Bao
ATTACH;FMTTYPE=image/jpeg:https://papeteriedesarceaux.com/wp-content/uploads/2018/07/fab8.jpg
ORGANIZER;CN="La Papeterie des Arceaux":MAILTO:contact@papeteriedesarceaux.com
END:VEVENT
BEGIN:VEVENT
DTSTART;TZID=Europe/Paris:20250731T140000
DTEND;TZID=Europe/Paris:20250731T180000
DTSTAMP:20260420T161005
CREATED:20250708T175140Z
LAST-MODIFIED:20250708T175140Z
UID:15090-1753970400-1753984800@papeteriedesarceaux.com
SUMMARY:Atelier Libre
DESCRIPTION:L’atelier Libre c’est simplement que les premier.e.s inscit.e.s choississent l’atelier qu’ils et elles souhaitent faire : reliure\, stop-motion\, gravure\, monotype\, flip-book\, Zhen Xian Bao\, Pop-up\, kirigami\, origami\, fabrication de papier (…) suffit de demander. En fait\, le mieux c’est de passer un coup de fil 😉 \nRéservations/ ateliers
URL:https://papeteriedesarceaux.com/event/atelier-libre-5/
LOCATION:La Papeterie des Arceaux\, 7 rue de l'arsault\, Grand Brassac\, 24350\, France
CATEGORIES:Atelier Flip Book Mécanique (Flip'Off),Atelier Kirigami & Origami,Atelier Kirigami - carte Pop-up,Atelier Linogravure,Atelier Monotype,Atelier Papier Animé,Atelier Papier Artisanal,Atelier Reliure,Atelier Xylogravure,Atelier Zhen Xian Bao
ATTACH;FMTTYPE=image/jpeg:https://papeteriedesarceaux.com/wp-content/uploads/2017/11/R4W-1.jpg
ORGANIZER;CN="La Papeterie des Arceaux":MAILTO:contact@papeteriedesarceaux.com
END:VEVENT
END:VCALENDAR