BEGIN:VCALENDAR
VERSION:2.0
PRODID:-//La Papeterie des Arceaux - ECPv6.15.18//NONSGML v1.0//EN
CALSCALE:GREGORIAN
METHOD:PUBLISH
X-ORIGINAL-URL:https://papeteriedesarceaux.com
X-WR-CALDESC:Évènements pour La Papeterie des Arceaux
REFRESH-INTERVAL;VALUE=DURATION:PT1H
X-Robots-Tag:noindex
X-PUBLISHED-TTL:PT1H
BEGIN:VTIMEZONE
TZID:Europe/Paris
BEGIN:DAYLIGHT
TZOFFSETFROM:+0100
TZOFFSETTO:+0200
TZNAME:CEST
DTSTART:20240331T010000
END:DAYLIGHT
BEGIN:STANDARD
TZOFFSETFROM:+0200
TZOFFSETTO:+0100
TZNAME:CET
DTSTART:20241027T010000
END:STANDARD
BEGIN:DAYLIGHT
TZOFFSETFROM:+0100
TZOFFSETTO:+0200
TZNAME:CEST
DTSTART:20250330T010000
END:DAYLIGHT
BEGIN:STANDARD
TZOFFSETFROM:+0200
TZOFFSETTO:+0100
TZNAME:CET
DTSTART:20251026T010000
END:STANDARD
BEGIN:DAYLIGHT
TZOFFSETFROM:+0100
TZOFFSETTO:+0200
TZNAME:CEST
DTSTART:20260329T010000
END:DAYLIGHT
BEGIN:STANDARD
TZOFFSETFROM:+0200
TZOFFSETTO:+0100
TZNAME:CET
DTSTART:20261025T010000
END:STANDARD
END:VTIMEZONE
BEGIN:VEVENT
DTSTART;TZID=Europe/Paris:20250718T100000
DTEND;TZID=Europe/Paris:20250718T160000
DTSTAMP:20260420T181337
CREATED:20250708T170332Z
LAST-MODIFIED:20250708T170332Z
UID:15076-1752832800-1752854400@papeteriedesarceaux.com
SUMMARY:Atelier Stop Motion au MAAP
DESCRIPTION:Faire bouger les œuvres du Musée d’Art et Archéologie de Périgueux c’est possible – si vous êtes parmi les ados des centres de loisir du Grand Périgueux… 😉\nAtelier de cinéma d’animation traditionnel sur banc titre à partir d’images des œuvres du MAAP \n*Attention* cela veut dire que la Papeterie est fermée à Grand Brassac…
URL:https://papeteriedesarceaux.com/event/atelier-stop-motion-au-maap-5/
LOCATION:MAAP\, 22 Cours Tourny\, Périgueux\, Dordogne\, 24000\, France
CATEGORIES:Atelier Papier Animé
ATTACH;FMTTYPE=image/jpeg:https://papeteriedesarceaux.com/wp-content/uploads/2021/11/cropped-ap1-e1635757267512.jpg
END:VEVENT
END:VCALENDAR