BEGIN:VCALENDAR
VERSION:2.0
PRODID:-//La Papeterie des Arceaux - ECPv6.15.18//NONSGML v1.0//EN
CALSCALE:GREGORIAN
METHOD:PUBLISH
X-WR-CALNAME:La Papeterie des Arceaux
X-ORIGINAL-URL:https://papeteriedesarceaux.com
X-WR-CALDESC:Évènements pour La Papeterie des Arceaux
REFRESH-INTERVAL;VALUE=DURATION:PT1H
X-Robots-Tag:noindex
X-PUBLISHED-TTL:PT1H
BEGIN:VTIMEZONE
TZID:Europe/Paris
BEGIN:DAYLIGHT
TZOFFSETFROM:+0100
TZOFFSETTO:+0200
TZNAME:CEST
DTSTART:20250330T010000
END:DAYLIGHT
BEGIN:STANDARD
TZOFFSETFROM:+0200
TZOFFSETTO:+0100
TZNAME:CET
DTSTART:20251026T010000
END:STANDARD
BEGIN:DAYLIGHT
TZOFFSETFROM:+0100
TZOFFSETTO:+0200
TZNAME:CEST
DTSTART:20260329T010000
END:DAYLIGHT
BEGIN:STANDARD
TZOFFSETFROM:+0200
TZOFFSETTO:+0100
TZNAME:CET
DTSTART:20261025T010000
END:STANDARD
BEGIN:DAYLIGHT
TZOFFSETFROM:+0100
TZOFFSETTO:+0200
TZNAME:CEST
DTSTART:20270328T010000
END:DAYLIGHT
BEGIN:STANDARD
TZOFFSETFROM:+0200
TZOFFSETTO:+0100
TZNAME:CET
DTSTART:20271031T010000
END:STANDARD
END:VTIMEZONE
BEGIN:VEVENT
DTSTART;TZID=Europe/Paris:20260519T140000
DTEND;TZID=Europe/Paris:20260519T180000
DTSTAMP:20260421T053823
CREATED:20260420T102139Z
LAST-MODIFIED:20260420T102139Z
UID:15342-1779199200-1779213600@papeteriedesarceaux.com
SUMMARY:Ateliers Estampille
DESCRIPTION:Soyez les premier-ère-s à réserver l’atelier gravure de votre choix\, lino\, xylo ou monotype et venez vous initier aux différentes techniques.\nL’Estampille c’est une version locale de la fête de l’estampe que nous vous proposons depuis 4 ans déjà avec les ami-e-s et voisin-e-s des ateliers Mistoury\, le 360° et cette année l’Artothèque de St Just – plus d’information sur le blog. \nDu Vendredi au Samedi de 14h à 18h du 14 Mai jusqu’au 30 Mai…\n45€ par personne\, matériel et gouter compris (tarifs spécial famille/ groupe à la demande)\nPlaces limitées\nSur réservation
URL:https://papeteriedesarceaux.com/event/ateliers-estampille/
LOCATION:La Papeterie des Arceaux\, 7 rue de l'arsault\, Grand Brassac\, 24350\, France
CATEGORIES:Atelier Linogravure,Atelier Monotype,Atelier Xylogravure
ATTACH;FMTTYPE=image/jpeg:https://papeteriedesarceaux.com/wp-content/uploads/2026/04/tablier2.jpeg
ORGANIZER;CN="La Papeterie des Arceaux":MAILTO:contact@papeteriedesarceaux.com
END:VEVENT
END:VCALENDAR